BEGIN:VCALENDAR
VERSION:2.0
PRODID:-//jEvents 1.5 for Joomla//EN
BEGIN:VEVENT
UID:7a908cb355e8260e5dfbbcc41ae6598f
CATEGORIES:Montag
SUMMARY:50.000er MEGABOUNTY AFTRWORK DEEPSTACK
LOCATION:
DESCRIPTION;ENCODING=QUOTED-PRINTABLE:MEGABOUNTY AFTERWORK DEEPSTACKTURNIER50.000 Starting-Chips / 15min Blindlev
 el, Beginnend mit\n50 / 100 !Location: Church-Chill\nOrt:76137 Karlsruhe\nK
 arlstr.115\nJeden Dienstag ab: 20.00 Uhr \nSpieler Check in ab: 19.30 Uhr\n
 \nNICHTRAUCHER LOCATION\n\nSpiele wie die Profis, 50.000 Chips, Blindlevel 
 ACHTUNG 15min,\nBlindbeginn 50/100 !\n\nBitte pünktlich erscheinen !Buy-In
  40€ BOUNTY + 10€ Entry Fee*Jeder Spieler bekommt einen Bounty (40€ G
 utschein), welcher an den Spieler abgegen \nwerden muss, der einen vom Tisc
 h nimmt. \n\nVerlieren kann man aber "nur" den eigenen Bounty, gewonnene Bo
 unties sind einem \nSpieler sicher und können nicht mehr verloren werden.\
 n BOUNTY 100 % AUSSPIELUNGIhr seid alle herzlich eingeladen! Bringt einfach
  viel Spielfreude und Lust auf einen angenehmen Abend mit!\n\nToco-Poker-Te
 am\ntocopoker.de\n01797940650

DTSTART:20200128T200000
DTEND:20200128T150000
SEQUENCE:0
TRANSP:OPAQUE
END:VEVENT
END:VCALENDAR