BEGIN:VCALENDAR
VERSION:2.0
PRODID:-//jEvents 1.5 for Joomla//EN
BEGIN:VEVENT
UID:d5824155d6c52c473c2ed76c708d4154
CATEGORIES:Montag
SUMMARY:Happy Birthday Deepstack
LOCATION:
DESCRIPTION;ENCODING=QUOTED-PRINTABLE:150.000er Happy Birthday Deepstack\nLocation: Sportsbar A8\nOrt:76135 Karls
 ruhe\nKriegsstr.121\nAm Samstag 17.05.25 ab: 20:00 Uhr\nSpieler Check in ab
 : 19:30 Uhr\nSpätanmeldung bis 22:00 UhrBuy-In 60€ inkl.- EssenACHTUNG K
 EIN REBUY\nALLE TURNIERE IM FREEZE-OUT MODUS\n150.000 Starting-Chips / 20 m
 in. Blindlevel, Beginnend mit\n100 / 200 !Finale Table 30 min. \n\n- GARAN
 TIEAUSSPIELUNG -\n\nNICHTRAUCHER LOCATION\n\n\n \n\n\nTurnierbeginn 20:00U
 hr. Spieler Check-In ab 19:30Uhr.\nBitte pünktlich erscheinen !Spätanmeld
 ung bis 23:00 Uhr.\n1. Platz: 1200€ Gutschein2. Platz: 800€ Gutschein3.
  Platz: 400€ Gutschein4. Platz: 200€ Gutschein5. Platz: 150€ Gutschei
 n6. Platz: 150€ Gutschein7. Platz: 50€ Gutschein8. Platz: 50€ Gutsche
 in9. Platz: 50€ Gutschein10. Platz: Free Buy-In\n\n \n\n\nIhr seid alle 
 herzlich eingeladen! Bringt einfach viel Spielfreude und Lust auf einen ang
 enehmen Abend mit!\n\nToco-Poker-Team\ntocopoker.de\n01797940650

DTSTART:20250517T200000
DTEND:20250517T150000
SEQUENCE:0
TRANSP:OPAQUE
END:VEVENT
END:VCALENDAR