BEGIN:VCALENDAR
VERSION:2.0
PRODID:-//jEvents 1.5 for Joomla//EN
BEGIN:VEVENT
UID:707f33a7b1ae5dc50fc09d71ef6600c3
CATEGORIES:.
SUMMARY:Karlsruher Poker Stadtmeisterschaft
LOCATION:
DESCRIPTION;ENCODING=QUOTED-PRINTABLE:\n\nKarlsruher Poker Stadtmeisterschaft\n\n\nLocation: Sportsbar A8\n\n\nOr
 t:76135 Karlsruhe\n\n\nKriegsstr.121\n\n\nAm Samstag 16.08.25 ab: 20:00 Uhr
 \n\n\nSpieler Check in ab: 19:30 Uhr\n\n\nSpätanmeldung bis 22:00 Uhr\n\n\
 n \n\n\nBuy-In 60€\n\n\nACHTUNG KEIN REBUY\n\n\nALLE TURNIERE IM FREEZE-
 OUT MODUS\n\n\n \n\n\n150.000 Starting-Chips / 20 min. Blindlevel, Beginne
 nd mit\n\n\n100 / 200 !\n\n\n \n\n\nFinale Table 30 min.\n\n\n- GARANTIEAU
 SSPIELUNG -\n\n\nNICHTRAUCHER LOCATION\n\n\n \n\n\n \n\n\n \n\n\nTurnier
 beginn 20:00Uhr. Spieler Check-In ab 19:30Uhr.\n\n\nBitte pünktlich ersche
 inen !\n\n\n \n\n\n1. Platz: 1200€ Gutschein\n\n\n2. Platz: 800€ Gutsc
 hein\n\n\n3. Platz: 400€ Gutschein\n\n\n4. Platz: 200€ Gutschein\n\n\n5
 . Platz: 150€ Gutschein\n\n\n6. Platz: 150€ Gutschein\n\n\n7. Platz: 50
 € Gutschein\n\n\n8. Platz: 50€ Gutschein\n\n\n9. Platz: 50€ Gutschein
 \n\n\n10. Platz: Free Buy-In\n\n\n \n\n\nIhr seid alle herzlich eingeladen
 ! Bringt einfach viel Spielfreude und Lust auf einen angenehmen Abend mit!\
 n\n\n \n\n\nToco-Poker-Team\n\n\ntocopoker.de\n\n\n01797940650\n

DTSTART:20250816T200000
DTEND:20250816T150000
SEQUENCE:0
TRANSP:OPAQUE
END:VEVENT
END:VCALENDAR